BEGIN:VCALENDAR
VERSION:2.0
PRODID:icalendar-ruby
CALSCALE:GREGORIAN
METHOD:PUBLISH
BEGIN:VEVENT
DTSTAMP:20260424T174443Z
UID:502a2236-6007-43c6-85e9-c511967b3988
DTSTART;VALUE=DATE:20160925
DTEND;VALUE=DATE:20160925
DESCRIPTION:Grand Valley BMX
LOCATION:2785 U.S. Highway 50  Grand Junction CO 81503 USA
SUMMARY:Local Race Single
URL:/site/bmx_races/298022
END:VEVENT
END:VCALENDAR
