BEGIN:VCALENDAR
VERSION:2.0
PRODID:icalendar-ruby
CALSCALE:GREGORIAN
METHOD:PUBLISH
BEGIN:VEVENT
DTSTAMP:20260423T023502Z
UID:a322e724-c1a9-4a53-a95b-5354bdd77daa
DTSTART;VALUE=DATE:20160226
DTEND;VALUE=DATE:20160226
DESCRIPTION:Chandler BMX
LOCATION:298 S Mc Queen Rd  Chandler AZ 85225 USA
SUMMARY:Local Race Single
URL:/site/bmx_races/298047
END:VEVENT
END:VCALENDAR
