BEGIN:VCALENDAR
VERSION:2.0
PRODID:icalendar-ruby
CALSCALE:GREGORIAN
METHOD:PUBLISH
BEGIN:VEVENT
DTSTAMP:20260420T174559Z
UID:4552bee9-4bc6-4539-b4ab-7eb912f57708
DTSTART;VALUE=DATE:20160207
DTEND;VALUE=DATE:20160207
DESCRIPTION:Apple Valley BMX Moto Park
LOCATION:24320 Highway 18  Apple Valley CA 92307 USA
SUMMARY:Practice
URL:/site/bmx_races/299341
END:VEVENT
END:VCALENDAR
