BEGIN:VCALENDAR
VERSION:2.0
PRODID:icalendar-ruby
CALSCALE:GREGORIAN
METHOD:PUBLISH
BEGIN:VEVENT
DTSTAMP:20260420T174557Z
UID:9c272a48-2695-44e8-9e7c-5fd1757cb2db
DTSTART;VALUE=DATE:20160221
DTEND;VALUE=DATE:20160221
DESCRIPTION:Apple Valley BMX Moto Park
LOCATION:24320 Highway 18  Apple Valley CA 92307 USA
SUMMARY:Practice
URL:/site/bmx_races/299347
END:VEVENT
END:VCALENDAR
