BEGIN:VCALENDAR
VERSION:2.0
PRODID:icalendar-ruby
CALSCALE:GREGORIAN
METHOD:PUBLISH
BEGIN:VEVENT
DTSTAMP:20260420T161332Z
UID:e1fd3848-bc00-496f-9769-f93e498478e9
DTSTART;VALUE=DATE:20160329
DTEND;VALUE=DATE:20160329
DESCRIPTION:Apple Valley BMX Moto Park
LOCATION:24320 Highway 18  Apple Valley CA 92307 USA
SUMMARY:Local Race Single
URL:/site/bmx_races/299363
END:VEVENT
END:VCALENDAR
