BEGIN:VCALENDAR
VERSION:2.0
PRODID:icalendar-ruby
CALSCALE:GREGORIAN
METHOD:PUBLISH
BEGIN:VEVENT
DTSTAMP:20260420T143532Z
UID:767f8034-8093-4b14-9140-5f1b35dd27b5
DTSTART;VALUE=DATE:20160401
DTEND;VALUE=DATE:20160401
DESCRIPTION:Apple Valley BMX Moto Park
LOCATION:24320 Highway 18  Apple Valley CA 92307 USA
SUMMARY:Local Race Single
URL:/site/bmx_races/299364
END:VEVENT
END:VCALENDAR
