BEGIN:VCALENDAR
VERSION:2.0
PRODID:icalendar-ruby
CALSCALE:GREGORIAN
METHOD:PUBLISH
BEGIN:VEVENT
DTSTAMP:20260420T130238Z
UID:0d889e3a-8aeb-46fc-b395-f3753d3c4b5b
DTSTART;VALUE=DATE:20160529
DTEND;VALUE=DATE:20160529
DESCRIPTION:Apple Valley BMX Moto Park
LOCATION:24320 Highway 18  Apple Valley CA 92307 USA
SUMMARY:Practice
URL:/site/bmx_races/299388
END:VEVENT
END:VCALENDAR
