BEGIN:VCALENDAR
VERSION:2.0
PRODID:icalendar-ruby
CALSCALE:GREGORIAN
METHOD:PUBLISH
BEGIN:VEVENT
DTSTAMP:20260420T094923Z
UID:b939842b-60e8-41db-b5da-8d9075fcfb44
DTSTART;VALUE=DATE:20160715
DTEND;VALUE=DATE:20160715
DESCRIPTION:Apple Valley BMX Moto Park
LOCATION:24320 Highway 18  Apple Valley CA 92307 USA
SUMMARY:Local Race Single
URL:/site/bmx_races/299408
END:VEVENT
END:VCALENDAR
