BEGIN:VCALENDAR
VERSION:2.0
PRODID:icalendar-ruby
CALSCALE:GREGORIAN
METHOD:PUBLISH
BEGIN:VEVENT
DTSTAMP:20260420T082030Z
UID:cbeea1cf-9043-41a4-9b83-084b521b4768
DTSTART;VALUE=DATE:20160904
DTEND;VALUE=DATE:20160904
DESCRIPTION:Apple Valley BMX Moto Park
LOCATION:24320 Highway 18  Apple Valley CA 92307 USA
SUMMARY:Practice
URL:/site/bmx_races/299430
END:VEVENT
END:VCALENDAR
