BEGIN:VCALENDAR
VERSION:2.0
PRODID:icalendar-ruby
CALSCALE:GREGORIAN
METHOD:PUBLISH
BEGIN:VEVENT
DTSTAMP:20260422T112146Z
UID:833b1393-b28c-45d7-9079-ec999edad63c
DTSTART;VALUE=DATE:20160617
DTEND;VALUE=DATE:20160617
DESCRIPTION:Redwood Empire BMX
LOCATION:201 Vance Ave  Samoa CA 95564 USA
SUMMARY:Local Race Single
URL:/site/bmx_races/300335
END:VEVENT
END:VCALENDAR
