BEGIN:VCALENDAR
VERSION:2.0
PRODID:icalendar-ruby
CALSCALE:GREGORIAN
METHOD:PUBLISH
BEGIN:VEVENT
DTSTAMP:20260422T161202Z
UID:9fe389ef-2519-41e0-9637-1a5502a28c8c
DTSTART;VALUE=DATE:20160320
DTEND;VALUE=DATE:20160320
DESCRIPTION:Redwood Empire BMX
LOCATION:201 Vance Ave  Samoa CA 95564 USA
SUMMARY:Local Race Single
URL:/site/bmx_races/300379
END:VEVENT
END:VCALENDAR
