BEGIN:VCALENDAR
VERSION:2.0
PRODID:icalendar-ruby
CALSCALE:GREGORIAN
METHOD:PUBLISH
BEGIN:VEVENT
DTSTAMP:20260425T202415Z
UID:e2bccb9e-6c47-42e3-b0f6-29e5f13b2efc
DTSTART;VALUE=DATE:20160102
DTEND;VALUE=DATE:20160102
DESCRIPTION:Goodyear BMX Raceway
LOCATION:15660 W Roeser Rd  Goodyear AZ 85338 USA
SUMMARY:Local Race Single
URL:/site/bmx_races/300901
END:VEVENT
END:VCALENDAR
