BEGIN:VCALENDAR
VERSION:2.0
PRODID:icalendar-ruby
CALSCALE:GREGORIAN
METHOD:PUBLISH
BEGIN:VEVENT
DTSTAMP:20260425T202252Z
UID:d8d0289e-f9e9-4893-9f1f-a837f8cc8afb
DTSTART;VALUE=DATE:20160116
DTEND;VALUE=DATE:20160116
DESCRIPTION:Goodyear BMX Raceway
LOCATION:15660 W Roeser Rd  Goodyear AZ 85338 USA
SUMMARY:Local Race Single
URL:/site/bmx_races/300906
END:VEVENT
END:VCALENDAR
