BEGIN:VCALENDAR
VERSION:2.0
PRODID:icalendar-ruby
CALSCALE:GREGORIAN
METHOD:PUBLISH
BEGIN:VEVENT
DTSTAMP:20260425T202314Z
UID:8a7af470-f0a6-4ca7-9580-27af3962c4aa
DTSTART;VALUE=DATE:20160127
DTEND;VALUE=DATE:20160127
DESCRIPTION:Goodyear BMX Raceway
LOCATION:15660 W Roeser Rd  Goodyear AZ 85338 USA
SUMMARY:Clinic
URL:/site/bmx_races/300913
END:VEVENT
END:VCALENDAR
