BEGIN:VCALENDAR
VERSION:2.0
PRODID:icalendar-ruby
CALSCALE:GREGORIAN
METHOD:PUBLISH
BEGIN:VEVENT
DTSTAMP:20260425T184806Z
UID:3b096124-ad2c-4c99-944f-c2ee5cd33f8b
DTSTART;VALUE=DATE:20160205
DTEND;VALUE=DATE:20160205
DESCRIPTION:Goodyear BMX Raceway
LOCATION:15660 W Roeser Rd  Goodyear AZ 85338 USA
SUMMARY:Clinic
URL:/site/bmx_races/300920
END:VEVENT
END:VCALENDAR
