BEGIN:VCALENDAR
VERSION:2.0
PRODID:icalendar-ruby
CALSCALE:GREGORIAN
METHOD:PUBLISH
BEGIN:VEVENT
DTSTAMP:20260425T184849Z
UID:459f6bf7-ab29-4384-b7b6-4747e6b761b7
DTSTART;VALUE=DATE:20160212
DTEND;VALUE=DATE:20160212
DESCRIPTION:Goodyear BMX Raceway
LOCATION:15660 W Roeser Rd  Goodyear AZ 85338 USA
SUMMARY:Clinic
URL:/site/bmx_races/300925
END:VEVENT
END:VCALENDAR
