BEGIN:VCALENDAR
VERSION:2.0
PRODID:icalendar-ruby
CALSCALE:GREGORIAN
METHOD:PUBLISH
BEGIN:VEVENT
DTSTAMP:20260425T184749Z
UID:444e9a86-c32e-4e48-9dd3-de2a29064a9c
DTSTART;VALUE=DATE:20160224
DTEND;VALUE=DATE:20160224
DESCRIPTION:Goodyear BMX Raceway
LOCATION:15660 W Roeser Rd  Goodyear AZ 85338 USA
SUMMARY:Clinic
URL:/site/bmx_races/300933
END:VEVENT
END:VCALENDAR
