BEGIN:VCALENDAR
VERSION:2.0
PRODID:icalendar-ruby
CALSCALE:GREGORIAN
METHOD:PUBLISH
BEGIN:VEVENT
DTSTAMP:20260425T035501Z
UID:b22502fa-e6f7-417f-8f3e-4a1300596525
DTSTART;VALUE=DATE:20161105
DTEND;VALUE=DATE:20161105
DESCRIPTION:Goodyear BMX Raceway
LOCATION:15660 W Roeser Rd  Goodyear AZ 85338 USA
SUMMARY:Local Race Single
URL:/site/bmx_races/301114
END:VEVENT
END:VCALENDAR
