BEGIN:VCALENDAR
VERSION:2.0
PRODID:icalendar-ruby
CALSCALE:GREGORIAN
METHOD:PUBLISH
BEGIN:VEVENT
DTSTAMP:20260425T035438Z
UID:f35c6150-ad8e-4b7e-bbf2-1074fec90f88
DTSTART;VALUE=DATE:20161109
DTEND;VALUE=DATE:20161109
DESCRIPTION:Goodyear BMX Raceway
LOCATION:15660 W Roeser Rd  Goodyear AZ 85338 USA
SUMMARY:Clinic
URL:/site/bmx_races/301116
END:VEVENT
END:VCALENDAR
