BEGIN:VCALENDAR
VERSION:2.0
PRODID:icalendar-ruby
CALSCALE:GREGORIAN
METHOD:PUBLISH
BEGIN:VEVENT
DTSTAMP:20260425T035501Z
UID:1cb5f0dd-8783-4bf0-8c77-274418eb4b32
DTSTART;VALUE=DATE:20161119
DTEND;VALUE=DATE:20161119
DESCRIPTION:Goodyear BMX Raceway
LOCATION:15660 W Roeser Rd  Goodyear AZ 85338 USA
SUMMARY:Local Race Single
URL:/site/bmx_races/301124
END:VEVENT
END:VCALENDAR
