BEGIN:VCALENDAR
VERSION:2.0
PRODID:icalendar-ruby
CALSCALE:GREGORIAN
METHOD:PUBLISH
BEGIN:VEVENT
DTSTAMP:20260425T184851Z
UID:bcf0f08d-6384-48b7-89f7-1d78f7e744e1
DTSTART;VALUE=DATE:20160204
DTEND;VALUE=DATE:20160204
DESCRIPTION:Goodyear BMX Raceway
LOCATION:15660 W Roeser Rd  Goodyear AZ 85338 USA
SUMMARY:Practice
URL:/site/bmx_races/301147
END:VEVENT
END:VCALENDAR
