BEGIN:VCALENDAR
VERSION:2.0
PRODID:icalendar-ruby
CALSCALE:GREGORIAN
METHOD:PUBLISH
BEGIN:VEVENT
DTSTAMP:20260425T170758Z
UID:b0a77dd3-f0a6-49a2-9abe-20681d506f1b
DTSTART;VALUE=DATE:20160324
DTEND;VALUE=DATE:20160324
DESCRIPTION:Goodyear BMX Raceway
LOCATION:15660 W Roeser Rd  Goodyear AZ 85338 USA
SUMMARY:Practice
URL:/site/bmx_races/301154
END:VEVENT
END:VCALENDAR
