BEGIN:VCALENDAR
VERSION:2.0
PRODID:icalendar-ruby
CALSCALE:GREGORIAN
METHOD:PUBLISH
BEGIN:VEVENT
DTSTAMP:20260425T122459Z
UID:2c90ad67-9589-4709-89bb-3a01de1ffd61
DTSTART;VALUE=DATE:20160602
DTEND;VALUE=DATE:20160602
DESCRIPTION:Goodyear BMX Raceway
LOCATION:15660 W Roeser Rd  Goodyear AZ 85338 USA
SUMMARY:Practice
URL:/site/bmx_races/301164
END:VEVENT
END:VCALENDAR
