BEGIN:VCALENDAR
VERSION:2.0
PRODID:icalendar-ruby
CALSCALE:GREGORIAN
METHOD:PUBLISH
BEGIN:VEVENT
DTSTAMP:20260425T122550Z
UID:357f4bfc-2423-4762-ada4-d5861a34909a
DTSTART;VALUE=DATE:20160616
DTEND;VALUE=DATE:20160616
DESCRIPTION:Goodyear BMX Raceway
LOCATION:15660 W Roeser Rd  Goodyear AZ 85338 USA
SUMMARY:Practice
URL:/site/bmx_races/301166
END:VEVENT
END:VCALENDAR
