BEGIN:VCALENDAR
VERSION:2.0
PRODID:icalendar-ruby
CALSCALE:GREGORIAN
METHOD:PUBLISH
BEGIN:VEVENT
DTSTAMP:20260419T181324Z
UID:dc88e992-e0b5-425a-8ca1-ea6b6c590675
DTSTART;VALUE=DATE:20160130
DTEND;VALUE=DATE:20160130
DESCRIPTION:Hampton BMX
LOCATION:901 E Littleback River Rd  Hampton VA 23669 USA
SUMMARY:Local Race Single
URL:/site/bmx_races/301217
END:VEVENT
END:VCALENDAR
