BEGIN:VCALENDAR
VERSION:2.0
PRODID:icalendar-ruby
CALSCALE:GREGORIAN
METHOD:PUBLISH
BEGIN:VEVENT
DTSTAMP:20260424T150255Z
UID:d0bc2c16-dc43-4975-ba3b-c3001074f382
DTSTART;VALUE=DATE:20160910
DTEND;VALUE=DATE:20160910
DESCRIPTION:Hampton BMX
LOCATION:901 E Littleback River Rd  Hampton VA 23669 USA
SUMMARY:Local Race Single
URL:/site/bmx_races/301247
END:VEVENT
END:VCALENDAR
