BEGIN:VCALENDAR
VERSION:2.0
PRODID:icalendar-ruby
CALSCALE:GREGORIAN
METHOD:PUBLISH
BEGIN:VEVENT
DTSTAMP:20260424T041603Z
UID:ce4cfa30-35cd-4507-b6dd-e1fd3863c782
DTSTART;VALUE=DATE:20160923
DTEND;VALUE=DATE:20160923
DESCRIPTION:BMX@Shoreham
LOCATION:Rt25 A & Defense Hill Rd  Shoreham NY 11786 USA
SUMMARY:State Pre-Race Double
URL:/site/bmx_races/301503
END:VEVENT
END:VCALENDAR
