BEGIN:VCALENDAR
VERSION:2.0
PRODID:icalendar-ruby
CALSCALE:GREGORIAN
METHOD:PUBLISH
BEGIN:VEVENT
DTSTAMP:20260421T184506Z
UID:48453489-eb24-4d65-bf99-f0f983db6c1a
DTSTART;VALUE=DATE:20160707
DTEND;VALUE=DATE:20160707
DESCRIPTION:Rock City BMX
LOCATION:3300 10 Mile Road  Rockford MI 49341 USA
SUMMARY:Practice
URL:/site/bmx_races/301620
END:VEVENT
END:VCALENDAR
