BEGIN:VCALENDAR
VERSION:2.0
PRODID:icalendar-ruby
CALSCALE:GREGORIAN
METHOD:PUBLISH
BEGIN:VEVENT
DTSTAMP:20260421T184705Z
UID:14eb203d-7c21-4c6b-9479-61eb1305bb6b
DTSTART;VALUE=DATE:20160728
DTEND;VALUE=DATE:20160728
DESCRIPTION:Rock City BMX
LOCATION:3300 10 Mile Road  Rockford MI 49341 USA
SUMMARY:Practice
URL:/site/bmx_races/301629
END:VEVENT
END:VCALENDAR
