BEGIN:VCALENDAR
VERSION:2.0
PRODID:icalendar-ruby
CALSCALE:GREGORIAN
METHOD:PUBLISH
BEGIN:VEVENT
DTSTAMP:20260421T164940Z
UID:6cfb5487-aecb-4e65-a5ec-1c1ddd5f5dcf
DTSTART;VALUE=DATE:20160811
DTEND;VALUE=DATE:20160811
DESCRIPTION:Rock City BMX
LOCATION:3300 10 Mile Road  Rockford MI 49341 USA
SUMMARY:Practice
URL:/site/bmx_races/301635
END:VEVENT
END:VCALENDAR
