BEGIN:VCALENDAR
VERSION:2.0
PRODID:icalendar-ruby
CALSCALE:GREGORIAN
METHOD:PUBLISH
BEGIN:VEVENT
DTSTAMP:20260419T170706Z
UID:ef562baa-62dc-4497-8750-4bb2083c0040
DTSTART;VALUE=DATE:20160817
DTEND;VALUE=DATE:20160817
DESCRIPTION:Springfield BMX Raceway
LOCATION:4115 Sandhill Road  Springfield IL 62702 USA
SUMMARY:Race for Life Double
URL:/site/bmx_races/302095
END:VEVENT
END:VCALENDAR
