BEGIN:VCALENDAR
VERSION:2.0
PRODID:icalendar-ruby
CALSCALE:GREGORIAN
METHOD:PUBLISH
BEGIN:VEVENT
DTSTAMP:20260421T204805Z
UID:09f4fdd9-8a79-47d1-a1ce-3d13e726fc75
DTSTART;VALUE=DATE:20160705
DTEND;VALUE=DATE:20160705
DESCRIPTION:Seatac BMX
LOCATION:1855 S 136th St  Sea Tac WA 98168 USA
SUMMARY:Practice
URL:/site/bmx_races/302124
END:VEVENT
END:VCALENDAR
