BEGIN:VCALENDAR
VERSION:2.0
PRODID:icalendar-ruby
CALSCALE:GREGORIAN
METHOD:PUBLISH
BEGIN:VEVENT
DTSTAMP:20260421T204805Z
UID:0b8e5ad4-a276-4fc3-aa49-0a9d09e8e5b0
DTSTART;VALUE=DATE:20160707
DTEND;VALUE=DATE:20160707
DESCRIPTION:Seatac BMX
LOCATION:1855 S 136th St  Sea Tac WA 98168 USA
SUMMARY:Local Race Single
URL:/site/bmx_races/302127
END:VEVENT
END:VCALENDAR
