BEGIN:VCALENDAR
VERSION:2.0
PRODID:icalendar-ruby
CALSCALE:GREGORIAN
METHOD:PUBLISH
BEGIN:VEVENT
DTSTAMP:20260421T190507Z
UID:0f096afb-bde9-471f-864d-c459c18f4761
DTSTART;VALUE=DATE:20160809
DTEND;VALUE=DATE:20160809
DESCRIPTION:Seatac BMX
LOCATION:1855 S 136th St  Sea Tac WA 98168 USA
SUMMARY:Practice
URL:/site/bmx_races/302149
END:VEVENT
END:VCALENDAR
