BEGIN:VCALENDAR
VERSION:2.0
PRODID:icalendar-ruby
CALSCALE:GREGORIAN
METHOD:PUBLISH
BEGIN:VEVENT
DTSTAMP:20260421T172137Z
UID:47d2ca26-7b8d-445b-ba64-970cab5c4adf
DTSTART;VALUE=DATE:20160917
DTEND;VALUE=DATE:20160917
DESCRIPTION:Seatac BMX
LOCATION:1855 S 136th St  Sea Tac WA 98168 USA
SUMMARY:Local Race Single
URL:/site/bmx_races/302163
END:VEVENT
END:VCALENDAR
