BEGIN:VCALENDAR
VERSION:2.0
PRODID:icalendar-ruby
CALSCALE:GREGORIAN
METHOD:PUBLISH
BEGIN:VEVENT
DTSTAMP:20260423T202941Z
UID:2f7f1d1b-1d24-4d64-bdde-929d239b8ce9
DTSTART;VALUE=DATE:20160729
DTEND;VALUE=DATE:20160729
DESCRIPTION:Heartland BMX
LOCATION:4801 Sw Shunga Dr  Topeka KS 66614 USA
SUMMARY:Earned Double
URL:/site/bmx_races/302173
END:VEVENT
END:VCALENDAR
