BEGIN:VCALENDAR
VERSION:2.0
PRODID:icalendar-ruby
CALSCALE:GREGORIAN
METHOD:PUBLISH
BEGIN:VEVENT
DTSTAMP:20260425T221244Z
UID:948a3990-9151-4146-891f-f4fbe3ed7235
DTSTART;VALUE=DATE:20160820
DTEND;VALUE=DATE:20160820
DESCRIPTION:Red River BMX
LOCATION:1490 S. 42nd Street  Grand Forks ND 58201 USA
SUMMARY:State Final Triple
URL:/site/bmx_races/302855
END:VEVENT
END:VCALENDAR
