BEGIN:VCALENDAR
VERSION:2.0
PRODID:icalendar-ruby
CALSCALE:GREGORIAN
METHOD:PUBLISH
BEGIN:VEVENT
DTSTAMP:20260422T163024Z
UID:44833385-96ad-4d4b-8e84-f7f34f524db5
DTSTART;VALUE=DATE:20160316
DTEND;VALUE=DATE:20160316
DESCRIPTION:Sports Park BMX
LOCATION:6901 N Casa Grande Highway  Tucson AZ 85743 USA
SUMMARY:Local Race Single
URL:/site/bmx_races/303013
END:VEVENT
END:VCALENDAR
