BEGIN:VCALENDAR
VERSION:2.0
PRODID:icalendar-ruby
CALSCALE:GREGORIAN
METHOD:PUBLISH
BEGIN:VEVENT
DTSTAMP:20260422T023445Z
UID:76fd43a2-11a9-459c-ba10-2c03989b95f0
DTSTART;VALUE=DATE:20161207
DTEND;VALUE=DATE:20161207
DESCRIPTION:Sports Park BMX
LOCATION:6901 N Casa Grande Highway  Tucson AZ 85743 USA
SUMMARY:Local Race Single
URL:/site/bmx_races/303087
END:VEVENT
END:VCALENDAR
