BEGIN:VCALENDAR
VERSION:2.0
PRODID:icalendar-ruby
CALSCALE:GREGORIAN
METHOD:PUBLISH
BEGIN:VEVENT
DTSTAMP:20260425T004950Z
UID:34a35262-998c-4542-a912-b9f8b31c76da
DTSTART;VALUE=DATE:20160405
DTEND;VALUE=DATE:20160405
DESCRIPTION:Cargill Park BMX
LOCATION:2800 Cargill Drive  Shreveport LA 71108 USA
SUMMARY:Practice
URL:/site/bmx_races/303172
END:VEVENT
END:VCALENDAR
