BEGIN:VCALENDAR
VERSION:2.0
PRODID:icalendar-ruby
CALSCALE:GREGORIAN
METHOD:PUBLISH
BEGIN:VEVENT
DTSTAMP:20260425T004837Z
UID:9665b6fe-222a-4cf3-bdb9-2f8e62882f93
DTSTART;VALUE=DATE:20160430
DTEND;VALUE=DATE:20160430
DESCRIPTION:Cargill Park BMX
LOCATION:2800 Cargill Drive  Shreveport LA 71108 USA
SUMMARY:Local Race Single
URL:/site/bmx_races/303183
END:VEVENT
END:VCALENDAR
