BEGIN:VCALENDAR
VERSION:2.0
PRODID:icalendar-ruby
CALSCALE:GREGORIAN
METHOD:PUBLISH
BEGIN:VEVENT
DTSTAMP:20260424T203953Z
UID:17cea843-e5a4-4e8a-adef-5c13000247a9
DTSTART;VALUE=DATE:20160702
DTEND;VALUE=DATE:20160702
DESCRIPTION:Cargill Park BMX
LOCATION:2800 Cargill Drive  Shreveport LA 71108 USA
SUMMARY:Local Race Single
URL:/site/bmx_races/303210
END:VEVENT
END:VCALENDAR
