BEGIN:VCALENDAR
VERSION:2.0
PRODID:icalendar-ruby
CALSCALE:GREGORIAN
METHOD:PUBLISH
BEGIN:VEVENT
DTSTAMP:20260424T204036Z
UID:9194668e-aa60-4e49-a6f3-2ec8f88e9f0a
DTSTART;VALUE=DATE:20160730
DTEND;VALUE=DATE:20160730
DESCRIPTION:Cargill Park BMX
LOCATION:2800 Cargill Drive  Shreveport LA 71108 USA
SUMMARY:Local Race Single
URL:/site/bmx_races/303221
END:VEVENT
END:VCALENDAR
