BEGIN:VCALENDAR
VERSION:2.0
PRODID:icalendar-ruby
CALSCALE:GREGORIAN
METHOD:PUBLISH
BEGIN:VEVENT
DTSTAMP:20260424T191537Z
UID:3594d78f-a815-43af-bfa5-d3418f6f580a
DTSTART;VALUE=DATE:20160816
DTEND;VALUE=DATE:20160816
DESCRIPTION:Cargill Park BMX
LOCATION:2800 Cargill Drive  Shreveport LA 71108 USA
SUMMARY:Practice
URL:/site/bmx_races/303228
END:VEVENT
END:VCALENDAR
