BEGIN:VCALENDAR
VERSION:2.0
PRODID:icalendar-ruby
CALSCALE:GREGORIAN
METHOD:PUBLISH
BEGIN:VEVENT
DTSTAMP:20260424T191756Z
UID:523e1adc-71b5-4d90-ae5e-1495ff78c771
DTSTART;VALUE=DATE:20160830
DTEND;VALUE=DATE:20160830
DESCRIPTION:Cargill Park BMX
LOCATION:2800 Cargill Drive  Shreveport LA 71108 USA
SUMMARY:Practice
URL:/site/bmx_races/303234
END:VEVENT
END:VCALENDAR
