BEGIN:VCALENDAR
VERSION:2.0
PRODID:icalendar-ruby
CALSCALE:GREGORIAN
METHOD:PUBLISH
BEGIN:VEVENT
DTSTAMP:20260425T174916Z
UID:d77b7ef2-bd2a-4ffd-8c99-499bcf359d52
DTSTART;VALUE=DATE:20160520
DTEND;VALUE=DATE:20160520
DESCRIPTION:Caldwell BMX
LOCATION:4700 Skyway St  Caldwell ID 83605 USA
SUMMARY:Local Race Single
URL:/site/bmx_races/304016
END:VEVENT
END:VCALENDAR
