BEGIN:VCALENDAR
VERSION:2.0
PRODID:icalendar-ruby
CALSCALE:GREGORIAN
METHOD:PUBLISH
BEGIN:VEVENT
DTSTAMP:20260425T144812Z
UID:55da42a1-ac31-41a7-bade-c530ea13584b
DTSTART;VALUE=DATE:20160722
DTEND;VALUE=DATE:20160722
DESCRIPTION:Caldwell BMX
LOCATION:4700 Skyway St  Caldwell ID 83605 USA
SUMMARY:Local Race Single
URL:/site/bmx_races/304024
END:VEVENT
END:VCALENDAR
