BEGIN:VCALENDAR
VERSION:2.0
PRODID:icalendar-ruby
CALSCALE:GREGORIAN
METHOD:PUBLISH
BEGIN:VEVENT
DTSTAMP:20260425T130740Z
UID:aecac8cc-3d13-4513-8d16-5ba92ac23274
DTSTART;VALUE=DATE:20160802
DTEND;VALUE=DATE:20160802
DESCRIPTION:Caldwell BMX
LOCATION:4700 Skyway St  Caldwell ID 83605 USA
SUMMARY:Practice
URL:/site/bmx_races/304026
END:VEVENT
END:VCALENDAR
