BEGIN:VCALENDAR
VERSION:2.0
PRODID:icalendar-ruby
CALSCALE:GREGORIAN
METHOD:PUBLISH
BEGIN:VEVENT
DTSTAMP:20260424T204037Z
UID:1c59350d-ed13-4ba8-a6b2-6479cf1083c8
DTSTART;VALUE=DATE:20160603
DTEND;VALUE=DATE:20160603
DESCRIPTION:Cargill Park BMX
LOCATION:2800 Cargill Drive  Shreveport LA 71108 USA
SUMMARY:Practice
URL:/site/bmx_races/304658
END:VEVENT
END:VCALENDAR
