BEGIN:VCALENDAR
VERSION:2.0
PRODID:icalendar-ruby
CALSCALE:GREGORIAN
METHOD:PUBLISH
BEGIN:VEVENT
DTSTAMP:20260421T060730Z
UID:1727e67b-0b27-487b-9f7d-2184d75042ea
DTSTART;VALUE=DATE:20160606
DTEND;VALUE=DATE:20160606
DESCRIPTION:Nanaimo BMX
LOCATION:2001 Labieux Road  Nanaimo BC V9T 3K7 CAN
SUMMARY:Practice
URL:/site/bmx_races/304690
END:VEVENT
END:VCALENDAR
